BEGIN:VCALENDAR
VERSION:2.0
PRODID:-//eventon.com NONSGML v1.0//EN
CALSCALE:GREGORIAN
METHOD:PUBLISH
BEGIN:VEVENT
UID:69eab2900e3ea
DTSTAMP:20260424T000016Z
DTSTART:20210827
DTEND:20210828
LOCATION:Balk Van Swinderenstraat 69
SUMMARY:Wielerronde van Balk
DESCRIPTION:De Wielerronde van Balk voert over een parcours in het plaatsje
  Balk\,  met start en finish op de Erasmusstraat. Er wordt in twee categori
 eën gereden (Sportklasse en Amateurs\,  met of zonder licentie\,  zie cate
 gorie-indeling) met elk een eigen uitslag in dezelfde wedstrijd\,  over 60 
 ronden van 1 km. Je kunt[..]\nhttps://wvsnits.nl/events/wielerronde-balk/
URL:https://wvsnits.nl/events/wielerronde-balk/
END:VEVENT
END:VCALENDAR