BEGIN:VCALENDAR
VERSION:2.0
PRODID:-//eventon.com NONSGML v1.0//EN
CALSCALE:GREGORIAN
METHOD:PUBLISH
BEGIN:VEVENT
UID:69e4cc0aab94c
DTSTAMP:20260419T123522Z
DTSTART:20260307T100000Z
DTEND:20260307T110000Z
LOCATION:
SUMMARY:Voorjaarscompetitie Sneek/Leeuwarden
DESCRIPTION:WW Snits organiseert samen met LWV De Friesche Leeuw (Leeuwarde
 n) de voorjaarscompetitie. Dit houdt in dat de wedstrijden in de competitie
   afwisselend in Sneek en Leeuwarden zullen plaatsvinden: za 14 februari 2
 026 11:00 Voorjaarscompetitie #1\,  WV Snits Sneek za 21 februari 2026 11:0
 0 Voorjaarscompetitie #2\,  Friesche Leeuw Leeuwarden (inschrijven kan[..]\
 nhttps://wvsnits.nl/events/voorjaarscompetitie/var/ri-3.l-L1
URL:https://wvsnits.nl/events/voorjaarscompetitie/var/ri-3.l-L1
END:VEVENT
END:VCALENDAR