BEGIN:VCALENDAR
VERSION:2.0
PRODID:-//eventon.com NONSGML v1.0//EN
CALSCALE:GREGORIAN
METHOD:PUBLISH
BEGIN:VEVENT
UID:69e603852f9bb
DTSTAMP:20260420T104421Z
DTSTART:20250601T073000Z
DTEND:20250601T215900Z
LOCATION:Sneek Thomas Zandstrastraat 1 Wielerbaan Sportcentrum Schuttersveld 8602 CW Sneek
SUMMARY:De Koers Fryslân - Sneek
DESCRIPTION:Op zondag 6 april en 1 juni organiseert WV Snits in samenwerkin
 g met LWV De Friesche Leeuw en WV Kapenga Drachten De Koers Fryslan. Inschr
 ijven voor deze wedstrijden kan via de betreffende link op de website van D
 e Koers. Kijk voor meer info op de pagina van De Koers Cyclingseries[..]\nh
 ttps://wvsnits.nl/events/de-koers-fryslan-sneek-2/
URL:https://wvsnits.nl/events/de-koers-fryslan-sneek-2/
END:VEVENT
END:VCALENDAR